BEGIN:VCALENDAR
VERSION:2.0
PRODID:-//Agricultural Society Russell Manitoba - ECPv6.15.20//NONSGML v1.0//EN
CALSCALE:GREGORIAN
METHOD:PUBLISH
X-WR-CALNAME:Agricultural Society Russell Manitoba
X-ORIGINAL-URL:https://agsocietyrmb.ca
X-WR-CALDESC:Events for Agricultural Society Russell Manitoba
REFRESH-INTERVAL;VALUE=DURATION:PT1H
X-Robots-Tag:noindex
X-PUBLISHED-TTL:PT1H
BEGIN:VTIMEZONE
TZID:America/Winnipeg
BEGIN:DAYLIGHT
TZOFFSETFROM:-0600
TZOFFSETTO:-0500
TZNAME:CDT
DTSTART:20250309T080000
END:DAYLIGHT
BEGIN:STANDARD
TZOFFSETFROM:-0500
TZOFFSETTO:-0600
TZNAME:CST
DTSTART:20251102T070000
END:STANDARD
BEGIN:DAYLIGHT
TZOFFSETFROM:-0600
TZOFFSETTO:-0500
TZNAME:CDT
DTSTART:20260308T080000
END:DAYLIGHT
BEGIN:STANDARD
TZOFFSETFROM:-0500
TZOFFSETTO:-0600
TZNAME:CST
DTSTART:20261101T070000
END:STANDARD
BEGIN:DAYLIGHT
TZOFFSETFROM:-0600
TZOFFSETTO:-0500
TZNAME:CDT
DTSTART:20270314T080000
END:DAYLIGHT
BEGIN:STANDARD
TZOFFSETFROM:-0500
TZOFFSETTO:-0600
TZNAME:CST
DTSTART:20271107T070000
END:STANDARD
END:VTIMEZONE
BEGIN:VEVENT
DTSTART;TZID=America/Winnipeg:20260114T170000
DTEND;TZID=America/Winnipeg:20260114T210000
DTSTAMP:20260421T030954
CREATED:20251217T193315Z
LAST-MODIFIED:20251217T194253Z
UID:305-1768410000-1768424400@agsocietyrmb.ca
SUMMARY:Annual General Meeting (AGM)
DESCRIPTION:The Russell Manitoba Ag Society Annual General Meeting (AGM) is scheduled on January 14\, 2026. Doors open at 05:30 pm. Supper is at 06:00 pm. AGM begins at 07:00 pm. Only members in good standing can vote. RSVP Nikki as listed in image below. \n$10 membership fee is due.\nDinner fee: Adults $15\, Children 5-10 years $7.50\nUnder 5 years – free \n \n\nBy-Law Changes to be voted on at Annual General Meeting \n6.06   Voting \n\nUnless otherwise specified in the Corporations Act\, questions arising at a meeting of the Board shall be decided by a majority of votes.  In the case of an equality of votes\, the President of the meeting\, who shall ordinarily have no vote\, shall cast the deciding vote.  All votes shall be taken by a show of hands\, unless a request for a ballot\, at any time.\nNotwithstanding clause (a)\, the Board may establish specific items for which more than majority of votes is required for assent.\nThere shall be no voting by proxy.\nd. Voting by Electronic devices is allowed as long as the motion is presented and seconded prior to the vote. A Thumbs up vote is considered a positive response to a motion.\n\n6.07   Telephone or electronic Participation \nA Director may\, if all the Directors present at the meeting consent\, participate in a Board meeting or a meeting of a committee of the board by means of such telephone or other communication facilities as permit all persons participating in the meeting to hear or read each others views\, and a Director participating in the meeting by that means is deemed to be present at the meeting. \n\n 
URL:https://agsocietyrmb.ca/event/annual-general-meeting-agm-2/
LOCATION:Binscarth Curling Club\, Binscarth\, Manitoba\, Canada
END:VEVENT
END:VCALENDAR